BEGIN:VCALENDAR
PRODID:-//AT Content Types//AT Event//EN
VERSION:2.0
METHOD:PUBLISH
BEGIN:VEVENT
DTSTAMP:20260422T082356Z
CREATED:20151202T102410Z
UID:ATEvent-22caae46f5464f4ea840774a27f96f10
LAST-MODIFIED:20151202T105225Z
SUMMARY:Junta de Presidents
DTSTART:20150104T150000Z
DTEND:20150104T150000Z
LOCATION:Nova seu planta 2 sala de la Junta de Presidents
CLASS:PUBLIC
END:VEVENT
END:VCALENDAR
