BEGIN:VCALENDAR
PRODID:-//AT Content Types//AT Event//EN
VERSION:1.0
BEGIN:VEVENT
DTSTART:20150314T090000Z
DTEND:20150314T090000Z
DCREATED:20150311T080544Z
UID:ATEvent-aa5bd11223a4451b8d3502bf2d1da373
SEQUENCE:0
LAST-MODIFIED:20150311T080611Z
SUMMARY:Jornada de portes obertes al nou edifici del Consell General
LOCATION:Nou edifici del Consell General
PRIORITY:3
TRANSP:0
END:VEVENT
END:VCALENDAR
