BEGIN:VCALENDAR
PRODID:-//AT Content Types//AT Event//EN
VERSION:1.0
BEGIN:VEVENT
DTSTART:20260505T133000Z
DTEND:20260505T150000Z
DCREATED:20260423T085800Z
UID:ATEvent-2337e59b8c2d4c548a39b6443e0a6d37
SEQUENCE:0
LAST-MODIFIED:20260423T085804Z
SUMMARY:Comissió Legislativa d’Educació\, Recerca\, Cultura\, Joventut i Esports
LOCATION:Sala de Comissions - Planta -3
PRIORITY:3
TRANSP:0
END:VEVENT
END:VCALENDAR
