BEGIN:VCALENDAR
PRODID:-//AT Content Types//AT Event//EN
VERSION:1.0
BEGIN:VEVENT
DTSTART:20260320T083000Z
DTEND:20260320T110000Z
DCREATED:20260313T114953Z
UID:ATEvent-1f0b3b65958e4e788033b1efbd7f07a4
SEQUENCE:0
LAST-MODIFIED:20260317T144804Z
SUMMARY:Comissió Legislativa de Finances i Pressupost
LOCATION:Sala de Comissions - Planta -3
PRIORITY:3
TRANSP:0
END:VEVENT
END:VCALENDAR
