BEGIN:VCALENDAR
PRODID:-//AT Content Types//AT Event//EN
VERSION:2.0
METHOD:PUBLISH
BEGIN:VEVENT
DTSTAMP:20260419T180814Z
CREATED:20260119T145340Z
UID:ATEvent-4e15a8c20e734e77804ef448af57a893
LAST-MODIFIED:20260304T103850Z
SUMMARY:Comissió Legislativa de Justícia\, Interior i Afers Institucionals
DTSTART:20260304T103000Z
DTEND:20260304T120000Z
LOCATION:Sala de Comissions - Planta -3
CLASS:PUBLIC
END:VEVENT
END:VCALENDAR
