BEGIN:VCALENDAR
PRODID:-//AT Content Types//AT Event//EN
VERSION:2.0
METHOD:PUBLISH
BEGIN:VEVENT
DTSTAMP:20260420T000925Z
CREATED:20250402T173943Z
UID:ATEvent-e5e031f17e4a48c39c022bca13a7bcf7
LAST-MODIFIED:20250414T084816Z
SUMMARY:Comissió Legislativa d’Educació\, Recerca\, Cultura\, Joventut i Esports
DTSTART:20250506T130000Z
DTEND:20250506T143000Z
LOCATION:Sala Comissions AB Planta -3
CLASS:PUBLIC
END:VEVENT
END:VCALENDAR
