BEGIN:VCALENDAR
PRODID:-//AT Content Types//AT Event//EN
VERSION:1.0
BEGIN:VEVENT
DTSTART:20250123T143000Z
DTEND:20250123T170000Z
DCREATED:20250122T095823Z
UID:ATEvent-589787eb4c19461d8cc9eef05db598d6
SEQUENCE:0
LAST-MODIFIED:20250122T095827Z
SUMMARY:Comissió Legislativa de Finances i Pressupost
PRIORITY:3
TRANSP:0
END:VEVENT
END:VCALENDAR
