BEGIN:VCALENDAR
PRODID:-//AT Content Types//AT Event//EN
VERSION:1.0
BEGIN:VEVENT
DTSTART:20250116T100000Z
DTEND:20250116T130000Z
DCREATED:20250115T140827Z
UID:ATEvent-17e512583cdd4150b61ee59543de2024
SEQUENCE:0
LAST-MODIFIED:20250115T141029Z
SUMMARY:Comissió Legislativa d'Economia
PRIORITY:3
TRANSP:0
END:VEVENT
END:VCALENDAR
