BEGIN:VCALENDAR
PRODID:-//AT Content Types//AT Event//EN
VERSION:1.0
BEGIN:VEVENT
DTSTART:20241213T080000Z
DTEND:20241213T110000Z
DCREATED:20241210T100102Z
UID:ATEvent-15fb419ce1c3426885cfb0cffe903e5e
SEQUENCE:0
LAST-MODIFIED:20241210T100107Z
SUMMARY:Comissió Legislativa d'Economia
PRIORITY:3
TRANSP:0
END:VEVENT
END:VCALENDAR
