BEGIN:VCALENDAR
PRODID:-//AT Content Types//AT Event//EN
VERSION:2.0
METHOD:PUBLISH
BEGIN:VEVENT
DTSTAMP:20260425T141006Z
CREATED:20241203T125536Z
UID:ATEvent-273996647a144a55a9ee9dd61f6bf2c8
LAST-MODIFIED:20241203T125542Z
SUMMARY:Comissió Legislativa d'Economia
DTSTART:20241206T090000Z
DTEND:20241206T110000Z
CLASS:PUBLIC
END:VEVENT
END:VCALENDAR
