BEGIN:VCALENDAR
PRODID:-//AT Content Types//AT Event//EN
VERSION:2.0
METHOD:PUBLISH
BEGIN:VEVENT
DTSTAMP:20260425T211550Z
CREATED:20241008T134523Z
UID:ATEvent-d3c2fcdb3e114508a63814fb75b32e03
LAST-MODIFIED:20241008T134533Z
SUMMARY:Comissió Legislativa d'Economia
DTSTART:20241011T073000Z
DTEND:20241011T093000Z
LOCATION:Consell General (planta -3).
CLASS:PUBLIC
END:VEVENT
END:VCALENDAR
