BEGIN:VCALENDAR
PRODID:-//AT Content Types//AT Event//EN
VERSION:2.0
METHOD:PUBLISH
BEGIN:VEVENT
DTSTAMP:20260420T085502Z
CREATED:20241002T090448Z
UID:ATEvent-6443fba6450a4fa2b3e0d481c35dd348
LAST-MODIFIED:20241002T090519Z
SUMMARY:Comissió Legislativa de Justícia\, Interior i Afers Institucionals
DTSTART:20241009T093000Z
DTEND:20241009T113000Z
LOCATION:Consell General (planta -3).
CLASS:PUBLIC
END:VEVENT
END:VCALENDAR
