BEGIN:VCALENDAR
PRODID:-//AT Content Types//AT Event//EN
VERSION:2.0
METHOD:PUBLISH
BEGIN:VEVENT
DTSTAMP:20260423T042240Z
CREATED:20240930T084401Z
UID:ATEvent-ee9f93b348be442085b27f8ab548a2e0
LAST-MODIFIED:20240930T084406Z
SUMMARY:Comissió Legislativa d'Economia
DTSTART:20241004T080000Z
DTEND:20241004T100000Z
CLASS:PUBLIC
END:VEVENT
END:VCALENDAR
