BEGIN:VCALENDAR
PRODID:-//AT Content Types//AT Event//EN
VERSION:1.0
BEGIN:VEVENT
DTSTART:20240527T093000Z
DTEND:20240527T110000Z
DCREATED:20240424T083120Z
UID:ATEvent-3ae7e3481ef240d098a6fff514bcd8e6
SEQUENCE:0
LAST-MODIFIED:20240527T104540Z
SUMMARY:Comissió Legislativa de Justícia\, Interior i Afers Institucionals
LOCATION:Consell General (planta -3).
PRIORITY:3
TRANSP:0
END:VEVENT
END:VCALENDAR
