BEGIN:VCALENDAR
PRODID:-//AT Content Types//AT Event//EN
VERSION:2.0
METHOD:PUBLISH
BEGIN:VEVENT
DTSTAMP:20260423T084526Z
CREATED:20240108T162743Z
UID:ATEvent-b41ef272330149baa051c5c69d94047e
LAST-MODIFIED:20240108T162804Z
SUMMARY:Comissió Legislativa de Finances i Pressupost
DTSTART:20240111T083000Z
DTEND:20240111T100000Z
LOCATION:Consell General (planta -3).
CLASS:PUBLIC
END:VEVENT
END:VCALENDAR
