BEGIN:VCALENDAR
PRODID:-//AT Content Types//AT Event//EN
VERSION:2.0
METHOD:PUBLISH
BEGIN:VEVENT
DTSTAMP:20260420T085524Z
CREATED:20231211T094944Z
UID:ATEvent-c0468b7b0f4c4bfeb0c924435d6f3d03
LAST-MODIFIED:20231211T095023Z
SUMMARY:Comissió Legislativa de Finances i Pressupost
DTSTART:20231214T143000Z
DTEND:20231214T150000Z
CLASS:PUBLIC
END:VEVENT
END:VCALENDAR
