BEGIN:VCALENDAR
PRODID:-//AT Content Types//AT Event//EN
VERSION:1.0
BEGIN:VEVENT
DTSTART:20231213T110000Z
DTEND:20231213T123000Z
DCREATED:20231206T145533Z
UID:ATEvent-d6763414dd3e447c9e5df9f066e64ce1
SEQUENCE:0
LAST-MODIFIED:20231207T094901Z
SUMMARY:Comissió Legislativa de Justícia\, Interior i Afers Institucionals
LOCATION:Consell General (planta -3).
PRIORITY:3
TRANSP:0
END:VEVENT
END:VCALENDAR
