BEGIN:VCALENDAR
PRODID:-//AT Content Types//AT Event//EN
VERSION:1.0
BEGIN:VEVENT
DTSTART:20230118T090000Z
DTEND:20230118T090000Z
DCREATED:20230118T103749Z
UID:ATEvent-a15cdab32a63468c94cbe2c9cb0c6a42
SEQUENCE:0
LAST-MODIFIED:20230118T103752Z
SUMMARY:Comissió Legislativa de Finances i Pressupost
LOCATION:Nova seu Planta -3 sala de compareixences públiques
PRIORITY:3
TRANSP:0
END:VEVENT
END:VCALENDAR
