BEGIN:VCALENDAR
PRODID:-//AT Content Types//AT Event//EN
VERSION:1.0
BEGIN:VEVENT
DTSTART:20230118T143000Z
DTEND:20230118T143000Z
DCREATED:20230113T134003Z
UID:ATEvent-ee75a18c35de40668b44fb4f8c465e7d
SEQUENCE:0
LAST-MODIFIED:20230113T134006Z
SUMMARY:Comissió Legislativa d'Economia
LOCATION:Nova seu Planta -3 sala de compareixences públiques
PRIORITY:3
TRANSP:0
END:VEVENT
END:VCALENDAR
