BEGIN:VCALENDAR
PRODID:-//AT Content Types//AT Event//EN
VERSION:2.0
METHOD:PUBLISH
BEGIN:VEVENT
DTSTAMP:20260421T062203Z
CREATED:20230110T101857Z
UID:ATEvent-61c3818623b34e02afb1b0dc90d28241
LAST-MODIFIED:20230113T094329Z
SUMMARY:Comissió Legislativa de Justícia\, Interior i Afers Institucionals
DTSTART:20230116T153000Z
DTEND:20230116T153000Z
LOCATION:Nova seu Planta -3 sala CD
CLASS:PUBLIC
END:VEVENT
END:VCALENDAR
