BEGIN:VCALENDAR
PRODID:-//AT Content Types//AT Event//EN
VERSION:1.0
BEGIN:VEVENT
DTSTART:20230112T100000Z
DTEND:20230112T100000Z
DCREATED:20221216T124816Z
UID:ATEvent-6f5c3d2a910442ab9ef9146b6be553a9
SEQUENCE:0
LAST-MODIFIED:20221216T124820Z
SUMMARY:Comissió Legislativa de Finances i Pressupost
LOCATION:Nova seu Planta -3 sala de compareixences públiques
PRIORITY:3
TRANSP:0
END:VEVENT
END:VCALENDAR
