BEGIN:VCALENDAR
PRODID:-//AT Content Types//AT Event//EN
VERSION:2.0
METHOD:PUBLISH
BEGIN:VEVENT
DTSTAMP:20260423T144706Z
CREATED:20221216T124438Z
UID:ATEvent-a94a46f84fd74a58a39bcecaf1877d05
LAST-MODIFIED:20221216T124540Z
SUMMARY:Comissió Legislativa de Finances i Pressupost
DTSTART:20221228T100000Z
DTEND:20221228T100000Z
LOCATION:Nova seu Planta -3 sala de compareixences públiques
CLASS:PUBLIC
END:VEVENT
END:VCALENDAR
