BEGIN:VCALENDAR
PRODID:-//AT Content Types//AT Event//EN
VERSION:2.0
METHOD:PUBLISH
BEGIN:VEVENT
DTSTAMP:20260422T030327Z
CREATED:20221117T074733Z
UID:ATEvent-23851c119b384a118a5d22f8343e27c9
LAST-MODIFIED:20221117T095329Z
SUMMARY:Comissió Legislativa d'Economia
DTSTART:20221118T080000Z
DTEND:20221118T080000Z
LOCATION:Nova seu Planta -3 sala de compareixences públiques
CLASS:PUBLIC
END:VEVENT
END:VCALENDAR
