BEGIN:VCALENDAR
PRODID:-//AT Content Types//AT Event//EN
VERSION:2.0
METHOD:PUBLISH
BEGIN:VEVENT
DTSTAMP:20260420T072516Z
CREATED:20221115T110337Z
UID:ATEvent-5341a2f968e444c19c3c34717130caae
LAST-MODIFIED:20221115T110340Z
SUMMARY:Comissió Legislativa d'Economia
DTSTART:20221116T150000Z
DTEND:20221116T150000Z
LOCATION:Nova seu Planta -3 sala de compareixences públiques
CLASS:PUBLIC
END:VEVENT
END:VCALENDAR
