BEGIN:VCALENDAR
PRODID:-//AT Content Types//AT Event//EN
VERSION:1.0
BEGIN:VEVENT
DTSTART:20221027T071500Z
DTEND:20221027T071500Z
DCREATED:20221014T085846Z
UID:ATEvent-14eb6e1ed9ba4cfc83b563bcc9ba3d21
SEQUENCE:0
LAST-MODIFIED:20221025T062909Z
SUMMARY:Comissió Legislativa de Finances i Pressupost
LOCATION:Nova seu Planta -3 sala de compareixences públiques
PRIORITY:3
TRANSP:0
END:VEVENT
END:VCALENDAR
