BEGIN:VCALENDAR
PRODID:-//AT Content Types//AT Event//EN
VERSION:1.0
BEGIN:VEVENT
DTSTART:20221110T083000Z
DTEND:20221110T083000Z
DCREATED:20221011T113651Z
UID:ATEvent-d20aaa9c92e34d85849a6523d2f2fa87
SEQUENCE:0
LAST-MODIFIED:20221025T072649Z
SUMMARY:Comissió Legislativa de Finances i Pressupost
LOCATION:Nova seu Planta -3 sala de compareixences públiques
PRIORITY:3
TRANSP:0
END:VEVENT
END:VCALENDAR
