BEGIN:VCALENDAR
PRODID:-//AT Content Types//AT Event//EN
VERSION:2.0
METHOD:PUBLISH
BEGIN:VEVENT
DTSTAMP:20260420T212103Z
CREATED:20220921T091845Z
UID:ATEvent-d311ffb3760e41f6856d874db76f8d86
LAST-MODIFIED:20220922T073513Z
SUMMARY:Comissió Legislativa d'Economia
DTSTART:20220921T133000Z
DTEND:20220921T133000Z
CLASS:PUBLIC
END:VEVENT
END:VCALENDAR
