BEGIN:VCALENDAR
PRODID:-//AT Content Types//AT Event//EN
VERSION:2.0
METHOD:PUBLISH
BEGIN:VEVENT
DTSTAMP:20260422T175154Z
CREATED:20220512T113735Z
UID:ATEvent-1fd78a15855442faab993d1a7bffe0be
LAST-MODIFIED:20220512T113738Z
SUMMARY:Comissió Legislativa de Finances i Pressupost
DTSTART:20220519T073000Z
DTEND:20220519T073000Z
CLASS:PUBLIC
END:VEVENT
END:VCALENDAR
