BEGIN:VCALENDAR
PRODID:-//AT Content Types//AT Event//EN
VERSION:2.0
METHOD:PUBLISH
BEGIN:VEVENT
DTSTAMP:20260421T175353Z
CREATED:20220504T094520Z
UID:ATEvent-bfb085649e924fc68592b4b11a598389
LAST-MODIFIED:20220504T094529Z
SUMMARY:Comissió Legislativa de Finances i Pressupost
DTSTART:20220505T073000Z
DTEND:20220505T073000Z
CLASS:PUBLIC
END:VEVENT
END:VCALENDAR
