BEGIN:VCALENDAR
PRODID:-//AT Content Types//AT Event//EN
VERSION:1.0
BEGIN:VEVENT
DTSTART:20220420T133000Z
DTEND:20220420T133000Z
DCREATED:20220401T112957Z
UID:ATEvent-074c8a75f0424197b65b60b6f039cb6e
SEQUENCE:0
LAST-MODIFIED:20220401T113104Z
SUMMARY:Comissió Legislativa d'Economia
LOCATION:Nova seu Planta -3 sala de compareixences públiques
PRIORITY:3
TRANSP:0
END:VEVENT
END:VCALENDAR
