BEGIN:VCALENDAR
PRODID:-//AT Content Types//AT Event//EN
VERSION:2.0
METHOD:PUBLISH
BEGIN:VEVENT
DTSTAMP:20260421T151128Z
CREATED:20220117T100524Z
UID:ATEvent-10e12181d44e475694d7e00971580be7
LAST-MODIFIED:20220118T102417Z
SUMMARY:Comissió Legislativa d'Economia
DTSTART:20220119T143000Z
DTEND:20220119T143000Z
CLASS:PUBLIC
END:VEVENT
END:VCALENDAR
