BEGIN:VCALENDAR
PRODID:-//AT Content Types//AT Event//EN
VERSION:2.0
METHOD:PUBLISH
BEGIN:VEVENT
DTSTAMP:20260423T144659Z
CREATED:20220114T081038Z
UID:ATEvent-bc49565699b14f20a09a555b958aff5e
LAST-MODIFIED:20220114T081042Z
SUMMARY:Comissió Legislativa de Finances i Pressupost
DTSTART:20220119T100000Z
DTEND:20220119T100000Z
LOCATION:Telemàtica
CLASS:PUBLIC
END:VEVENT
END:VCALENDAR
