BEGIN:VCALENDAR
PRODID:-//AT Content Types//AT Event//EN
VERSION:1.0
BEGIN:VEVENT
DTSTART:20220120T083000Z
DTEND:20220120T083000Z
DCREATED:20220114T081220Z
UID:ATEvent-ca6aae0ff5db4c1fbfe4794755f662d8
SEQUENCE:0
LAST-MODIFIED:20220114T081224Z
SUMMARY:Comissió Legislativa de Finances i Pressupost
LOCATION:Telemàtica
PRIORITY:3
TRANSP:0
END:VEVENT
END:VCALENDAR
