BEGIN:VCALENDAR
PRODID:-//AT Content Types//AT Event//EN
VERSION:2.0
METHOD:PUBLISH
BEGIN:VEVENT
DTSTAMP:20260420T085503Z
CREATED:20220112T113713Z
UID:ATEvent-f49bfb96953c43288d94dcd4f94c8729
LAST-MODIFIED:20220112T113720Z
SUMMARY:Comissió Legislativa de Finances i Pressupost
DTSTART:20220113T083000Z
DTEND:20220113T083000Z
LOCATION:Telemàtica
CLASS:PUBLIC
END:VEVENT
END:VCALENDAR
