BEGIN:VCALENDAR
PRODID:-//AT Content Types//AT Event//EN
VERSION:1.0
BEGIN:VEVENT
DTSTART:20211201T161500Z
DTEND:20211201T161500Z
DCREATED:20211126T092801Z
UID:ATEvent-8d135d9976c44b3193d93fa9852e28e0
SEQUENCE:0
LAST-MODIFIED:20211126T092904Z
SUMMARY:Comissió Legislativa de Finances i Pressupost
LOCATION:Nova seu Planta -3 sala AB
PRIORITY:3
TRANSP:0
END:VEVENT
END:VCALENDAR
