BEGIN:VCALENDAR
PRODID:-//AT Content Types//AT Event//EN
VERSION:1.0
BEGIN:VEVENT
DTSTART:20210930T090000Z
DTEND:20210930T090000Z
DCREATED:20210924T092903Z
UID:ATEvent-d3b29a3ac545471cac78cfd1d4e4db18
SEQUENCE:0
LAST-MODIFIED:20210924T095236Z
SUMMARY:Comissió Legislativa de Finances i Pressupost
PRIORITY:3
TRANSP:0
END:VEVENT
END:VCALENDAR
