BEGIN:VCALENDAR
PRODID:-//AT Content Types//AT Event//EN
VERSION:2.0
METHOD:PUBLISH
BEGIN:VEVENT
DTSTAMP:20260419T161400Z
CREATED:20210611T074043Z
UID:ATEvent-6c71e8d56a20472d928894a5f90f8aa0
LAST-MODIFIED:20210611T074046Z
SUMMARY:Comissió Legislativa de Finances i Pressupost
DTSTART:20210617T131500Z
DTEND:20210617T131500Z
CLASS:PUBLIC
END:VEVENT
END:VCALENDAR
