BEGIN:VCALENDAR
PRODID:-//AT Content Types//AT Event//EN
VERSION:1.0
BEGIN:VEVENT
DTSTART:20210519T133000Z
DTEND:20210519T133000Z
DCREATED:20210513T062802Z
UID:ATEvent-e3851220fc5f4709bd796f4722bdfe18
SEQUENCE:0
LAST-MODIFIED:20210513T062806Z
SUMMARY:Comissió Legislativa d'Economia
PRIORITY:3
TRANSP:0
END:VEVENT
END:VCALENDAR
