BEGIN:VCALENDAR
PRODID:-//AT Content Types//AT Event//EN
VERSION:2.0
METHOD:PUBLISH
BEGIN:VEVENT
DTSTAMP:20260423T132809Z
CREATED:20210112T101856Z
UID:ATEvent-4c2c039e0d8c4070ba9c15aace369b00
LAST-MODIFIED:20210112T101859Z
SUMMARY:Roda de premsa
DTSTART:20210112T103000Z
DTEND:20210112T103000Z
LOCATION:Nova seu Planta 0 sala de premsa
CLASS:PUBLIC
END:VEVENT
END:VCALENDAR
