BEGIN:VCALENDAR
PRODID:-//AT Content Types//AT Event//EN
VERSION:1.0
BEGIN:VEVENT
DTSTART:20201105T083000Z
DTEND:20201105T083000Z
DCREATED:20201102T124724Z
UID:ATEvent-6cfb2679117d4e1c8072ae01caf96ea8
SEQUENCE:0
LAST-MODIFIED:20201102T124823Z
SUMMARY:Comissió Legislativa de Finances i Pressupost
PRIORITY:3
TRANSP:0
END:VEVENT
END:VCALENDAR
