BEGIN:VCALENDAR
PRODID:-//AT Content Types//AT Event//EN
VERSION:1.0
BEGIN:VEVENT
DTSTART:20200716T083000Z
DTEND:20200716T083000Z
DCREATED:20200708T120838Z
UID:ATEvent-e24b637132bb49cbbf4e4cdb386ffdd1
SEQUENCE:0
LAST-MODIFIED:20200708T122033Z
SUMMARY:Comissió Legislativa de Finances i Pressupost
LOCATION:Nova seu Planta -3 sala de compareixences públiques
PRIORITY:3
TRANSP:0
END:VEVENT
END:VCALENDAR
