BEGIN:VCALENDAR
PRODID:-//AT Content Types//AT Event//EN
VERSION:1.0
BEGIN:VEVENT
DTSTART:20191121T110000Z
DTEND:20191121T110000Z
DCREATED:20191120T124036Z
UID:ATEvent-59cafa5d2e1a4ee48f9dbf8303889955
SEQUENCE:0
LAST-MODIFIED:20191120T124039Z
SUMMARY:Roda de premsa
LOCATION:Nova seu Planta 0 sala de premsa
PRIORITY:3
TRANSP:0
END:VEVENT
END:VCALENDAR
