BEGIN:VCALENDAR
PRODID:-//AT Content Types//AT Event//EN
VERSION:2.0
METHOD:PUBLISH
BEGIN:VEVENT
DTSTAMP:20260419T144949Z
CREATED:20191115T140755Z
UID:ATEvent-d2fc20a46cbe441a992ec15296f61daf
LAST-MODIFIED:20191115T141206Z
SUMMARY:Roda de premsa
DTSTART:20191118T100000Z
DTEND:20191118T100000Z
LOCATION:Nova seu Planta 0 sala de premsa
CLASS:PUBLIC
END:VEVENT
END:VCALENDAR
