BEGIN:VCALENDAR
PRODID:-//AT Content Types//AT Event//EN
VERSION:1.0
BEGIN:VEVENT
DTSTART:20190909T160000Z
DTEND:20190909T160000Z
DCREATED:20190909T120218Z
UID:ATEvent-bd74fd6b324e4864ad5792b384d0674f
SEQUENCE:0
LAST-MODIFIED:20190909T120221Z
SUMMARY:Roda de premsa
LOCATION:Nova seu Planta 0 sala de premsa
PRIORITY:3
TRANSP:0
END:VEVENT
END:VCALENDAR
