BEGIN:VCALENDAR
PRODID:-//AT Content Types//AT Event//EN
VERSION:1.0
BEGIN:VEVENT
DTSTART:20190709T100000Z
DTEND:20190709T100000Z
DCREATED:20190709T081716Z
UID:ATEvent-6b09c79bf7a54670a78b6420d12367ee
SEQUENCE:0
LAST-MODIFIED:20190709T081719Z
SUMMARY:Roda de premsa
LOCATION:Nova seu Planta 0 sala de premsa
PRIORITY:3
TRANSP:0
END:VEVENT
END:VCALENDAR
