BEGIN:VCALENDAR
PRODID:-//AT Content Types//AT Event//EN
VERSION:1.0
BEGIN:VEVENT
DTSTART:20190620T093000Z
DTEND:20190620T093000Z
DCREATED:20190617T112554Z
UID:ATEvent-eec07c95e9bb478bb9783d8be1e7fcdc
SEQUENCE:0
LAST-MODIFIED:20190620T084304Z
SUMMARY:Anul·lada: Roda de premsa
LOCATION:Nova seu Planta 0 sala de premsa
PRIORITY:3
TRANSP:0
END:VEVENT
END:VCALENDAR
