BEGIN:VCALENDAR
PRODID:-//AT Content Types//AT Event//EN
VERSION:1.0
BEGIN:VEVENT
DTSTART:20190208T090000Z
DTEND:20190208T090000Z
DCREATED:20190201T144111Z
UID:ATEvent-85de98f97ff041e48d7a84b9140b8854
SEQUENCE:0
LAST-MODIFIED:20190205T091811Z
SUMMARY:Comissió Legislativa d'Economia
LOCATION:Nova seu Planta -3 sala AB
PRIORITY:3
TRANSP:0
END:VEVENT
END:VCALENDAR
