BEGIN:VCALENDAR
PRODID:-//AT Content Types//AT Event//EN
VERSION:1.0
BEGIN:VEVENT
DTSTART:20190129T143000Z
DTEND:20190129T143000Z
DCREATED:20190125T132808Z
UID:ATEvent-a11e141e7d014a45a8b4b1cf39ca8cdd
SEQUENCE:0
LAST-MODIFIED:20190125T132849Z
SUMMARY:Comissió Legislativa de Finances i Pressupost
LOCATION:Nova seu Planta -3 sala AB
PRIORITY:3
TRANSP:0
END:VEVENT
END:VCALENDAR
