BEGIN:VCALENDAR
PRODID:-//AT Content Types//AT Event//EN
VERSION:1.0
BEGIN:VEVENT
DTSTART:20190121T090000Z
DTEND:20190121T090000Z
DCREATED:20190116T112023Z
UID:ATEvent-75af9887379647c082a4b90c1b22da22
SEQUENCE:0
LAST-MODIFIED:20190116T112046Z
SUMMARY:Comissió Legislativa d'Interior
LOCATION:Nova seu Planta -3 sala AB
PRIORITY:3
TRANSP:0
END:VEVENT
END:VCALENDAR
