BEGIN:VCALENDAR
PRODID:-//AT Content Types//AT Event//EN
VERSION:2.0
METHOD:PUBLISH
BEGIN:VEVENT
DTSTAMP:20260423T132735Z
CREATED:20190116T111601Z
UID:ATEvent-f41354179b9b4b4c88df6ab248e3fbe6
LAST-MODIFIED:20190116T111633Z
SUMMARY:Comissió Legislativa d'Economia
DTSTART:20190118T153000Z
DTEND:20190118T153000Z
LOCATION:Nova seu Planta -3 sala AB
CLASS:PUBLIC
END:VEVENT
END:VCALENDAR
